BEGIN:VCALENDAR
VERSION:2.0
PRODID:-//wp-events-plugin.com//7.2.3.1//EN
TZID:America/New_York
X-WR-TIMEZONE:America/New_York
BEGIN:VEVENT
UID:79@finfurfeatherclub.com
DTSTART;TZID=America/New_York:20210424T080000
DTEND;TZID=America/New_York:20210424T120000
DTSTAMP:20210420T194227Z
URL:https://www.finfurfeatherclub.com/events/spring-clean-up/
SUMMARY:Spring Clean-up
DESCRIPTION:Members\,\n\nClub's annual spring clean-up starts at 8 am\, ple
 ase bring leaf blowers\, chain &amp\; pole saws\, snippers\, rakes\, and s
 hovels. More members the quicker the task goes. Easy work hours\, if you h
 ave a dump trailer and a small bucket loader those will help a lot.  Any 
 questions\, please contact Troy Quick.\n\nRain date is May 1st.\n\nReminde
 r that all ranges are closed until work party is completed!
END:VEVENT
BEGIN:VTIMEZONE
TZID:America/New_York
X-LIC-LOCATION:America/New_York
BEGIN:DAYLIGHT
DTSTART:20210314T030000
TZOFFSETFROM:-0500
TZOFFSETTO:-0400
TZNAME:EDT
END:DAYLIGHT
END:VTIMEZONE
END:VCALENDAR